BEGIN:VCALENDAR
VERSION:2.0
PRODID:-//ChamberMaster//Event Calendar 2.0//EN
METHOD:PUBLISH
X-PUBLISHED-TTL:P1H
REFRESH-INTERVAL:P1H
CALSCALE:GREGORIAN
BEGIN:VTIMEZONE
TZID:America/New_York
BEGIN:DAYLIGHT
RRULE:FREQ=YEARLY;BYMONTH=3;BYDAY=2SU
DTSTART:20070101T000000
TZOFFSETFROM:-0500
TZOFFSETTO:-0400
TZNAME:Eastern Daylight Time
END:DAYLIGHT
BEGIN:STANDARD
RRULE:FREQ=YEARLY;BYMONTH=11;BYDAY=1SU
DTSTART:20070101T000000
TZOFFSETFROM:-0400
TZOFFSETTO:-0500
TZNAME:Eastern Standard Time
END:STANDARD
END:VTIMEZONE
BEGIN:VEVENT
DTSTART;TZID=America/New_York:20260514T130000
DTEND;TZID=America/New_York:20260514T140000
X-MICROSOFT-CDO-ALLDAYEVENT:FALSE
SUMMARY:Arts + Culture Quarterly Circle
DESCRIPTION:Please join us on Thursday\, May 14 from 1-2pm ET\, for the Arts + Culture Quarterly Circle\, a members-only community of practice. The Arts & Culture Circle serves as a forum and learning space for consultants working with arts and cultural organizations to discuss opportunities and challenges within that field.The group strives to create a supportive space where all can share openly. This is a member-led group and its content and format may evolve as needed to better serve its members. The meetings are intended to share knowledge\, build skills\, and foster collaboration and community. \nThere is no charge to attend any of the Association's Circle meetings\, but registration is always required. An email with the Zoom link will be sent the day before each Circle meeting.\nIf you are a prospective member and would like to receive a one-time guest pass to check us out and participate in this Circle\, please email info@npspecialists.org.Please contact us to discuss any accommodations you may need to fully participate in this program.
X-ALT-DESC;FMTTYPE=text/html:<!DOCTYPE html><html><head><title></title></head><body aria-disabled="false"><p dir="ltr" style="line-height: 1.38\; background-color: rgb(255\, 255\, 255)\; margin-top: 0pt\; margin-bottom: 0pt\;"><span style="color: rgb(0\, 0\, 0)\;">Please join <span style="font-family: Arial\,Helvetica\,sans-serif\;">us on Thursday\, May 14 from 1-2pm ET\, for the&nbsp\;</span></span><span style="font-family: Arial\,Helvetica\,sans-serif\;"><span style="color: rgb(209\, 72\, 65)\;"><strong fr-original-style="" style="font-weight: 700\;">Arts + Culture Quarterly Circle</strong></span><span style="color: rgb(0\, 0\, 0)\;"><span style="font-size: 12pt\; background-color: transparent\; font-weight: 400\; font-style: normal\; font-variant: normal\; text-decoration: none\; vertical-align: baseline\; white-space: pre-wrap\;">\, a members-only community of practice.&nbsp\;</span><span style="color: rgb(0\, 0\, 0)\; font-size: 16px\; font-style: normal\; font-variant-ligatures: normal\; font-variant-caps: normal\; font-weight: 400\; letter-spacing: normal\; orphans: 2\; text-align: start\; text-indent: 0px\; text-transform: none\; widows: 2\; word-spacing: 0px\; -webkit-text-stroke-width: 0px\; white-space: normal\; background-color: rgb(255\, 255\, 255)\; text-decoration-thickness: initial\; text-decoration-style: initial\; text-decoration-color: initial\; float: none\; display: inline !important\;font-size: 12pt\; background-color: transparent\; font-weight: 400\; font-style: normal\; font-variant: normal\; text-decoration: none\; vertical-align: baseline\; white-space: pre-wrap\;">The Arts &amp\; Culture Circle serves as a forum and learning space for consultants working with arts and cultural organizations to discuss opportunities and challenges within that field.</span></span></span></p><p dir="ltr" style="line-height: 1.38\; background-color: rgb(255\, 255\, 255)\; margin-top: 0pt\; margin-bottom: 0pt\;"><span style="color: rgb(0\, 0\, 0)\;"><span style="font-size: 12pt\; font-family: Arial\, sans-serif\; background-color: transparent\; font-weight: 400\; font-style: normal\; font-variant: normal\; text-decoration: none\; vertical-align: baseline\; white-space: pre-wrap\;">The group strives to create a supportive space where all can share openly. This is a member-led group and its content and format may evolve as needed to better serve its members.&nbsp\;</span><span style="font-family: Arial\, sans-serif\; font-size: 16px\; font-style: normal\; font-variant-ligatures: normal\; font-variant-caps: normal\; font-weight: 400\; letter-spacing: normal\; orphans: 2\; text-align: start\; text-indent: 0px\; text-transform: none\; widows: 2\; word-spacing: 0px\; -webkit-text-stroke-width: 0px\; white-space: pre-wrap\; background-color: rgb(255\, 255\, 255)\; text-decoration-thickness: initial\; text-decoration-style: initial\; text-decoration-color: initial\; float: none\; display: inline !important\;font-size: 12pt\; font-family: Arial\, sans-serif\; background-color: transparent\; font-weight: 400\; font-style: normal\; font-variant: normal\; text-decoration: none\; vertical-align: baseline\; white-space: pre-wrap\;">The meetings are intended to share knowledge\, build skills\, and foster collaboration and community.&nbsp\;</span></span><span style="color: rgb(0\, 0\, 0)\;"><br></span></p><p dir="ltr" style="line-height: 1.38\; background-color: rgb(255\, 255\, 255)\; margin-top: 0pt\; margin-bottom: 0pt\;"><span style="font-size: 12pt\; font-family: Arial\, sans-serif\; color: rgb(0\, 0\, 0)\; background-color: transparent\; font-weight: 400\; font-style: normal\; font-variant: normal\; text-decoration: none\; vertical-align: baseline\; white-space: pre-wrap\;">There is no charge to attend any of the Association&#39\;s Circle meetings\, but registration is always required. An email with the Zoom link will be sent the day before each Circle meeting.</span></p><p dir="ltr" style="line-height: 1.38\; background-color: rgb(255\, 255\, 255)\; margin-top: 0pt\; margin-bottom: 0pt\;"><br></p><p dir="ltr" style="line-height: 1.38\; background-color: rgb(255\, 255\, 255)\; margin-top: 0pt\; margin-bottom: 0pt\;">If you are a prospective member and would like to receive a one-time guest pass to check us out and participate in this Circle\, please email <a fr-original-style="" href="mailto:info@npspecialists.org" style="user-select: auto\;">info@npspecialists.org</a>.</p><p>Please contact us to discuss any accommodations you may need to fully participate in this program. <span style="color: rgb(34\, 34\, 34)\; font-family: Arial\, Helvetica\, sans-serif\; font-size: small\; font-style: normal\; font-variant-ligatures: normal\; font-variant-caps: normal\; font-weight: 400\; letter-spacing: normal\; orphans: 2\; text-align: start\; text-indent: 0px\; text-transform: none\; white-space: normal\; widows: 2\; word-spacing: 0px\; -webkit-text-stroke-width: 0px\; background-color: rgb(255\, 255\, 255)\; text-decoration-thickness: initial\; text-decoration-style: initial\; text-decoration-color: initial\; display: inline !important\; float: none\;">&nbsp\;</span></p></body></html>
LOCATION:
UID:e.708.1445082
SEQUENCE:3
DTSTAMP:20260423T150419Z
URL:https://associationofnonprofitspecialists.growthzoneapp.com/events/Details/arts-culture-quarterly-circle-1711561?sourceTypeId=Hub
END:VEVENT
END:VCALENDAR
