BEGIN:VCALENDAR
VERSION:2.0
PRODID:-//ChamberMaster//Event Calendar 2.0//EN
METHOD:PUBLISH
X-PUBLISHED-TTL:P1H
REFRESH-INTERVAL:P1H
CALSCALE:GREGORIAN
BEGIN:VTIMEZONE
TZID:America/New_York
BEGIN:DAYLIGHT
RRULE:FREQ=YEARLY;BYMONTH=3;BYDAY=2SU
DTSTART:20070101T000000
TZOFFSETFROM:-0500
TZOFFSETTO:-0400
TZNAME:Eastern Daylight Time
END:DAYLIGHT
BEGIN:STANDARD
RRULE:FREQ=YEARLY;BYMONTH=11;BYDAY=1SU
DTSTART:20070101T000000
TZOFFSETFROM:-0400
TZOFFSETTO:-0500
TZNAME:Eastern Standard Time
END:STANDARD
END:VTIMEZONE
BEGIN:VEVENT
DTSTART;TZID=America/New_York:20260520T093000
DTEND;TZID=America/New_York:20260520T113000
X-MICROSOFT-CDO-ALLDAYEVENT:FALSE
SUMMARY:In-Person Spring Morning Mixer
DESCRIPTION:In-Person Spring Morning MixerJoin us for a morning of community building\, complete with beautiful views and great conversation! \n\n Wednesday\, May 20\, 20269:30 -11:30am\n4 World Trade Center\, 30th Floor\, Conference Room 30A\nHear from Miguel Bonilla\, Deputy Director\, Mayor's Office for Nonprofit Services.See what is happening in the City.Walk away with new contacts and ideas to support your consulting work.\n~Members $20 Non-Members $30 \nStudents $20\nA light breakfast will be servedRegistration Closes Tuesday\, May 12 at 11pmSPACE IS LIMITED: Pre-registration is required
X-ALT-DESC;FMTTYPE=text/html:<!DOCTYPE html><html><head><title></title></head><body aria-disabled="false"><div style="color: rgb(34\, 34\, 34)\; font-size: small\; font-style: normal\; font-variant-ligatures: normal\; font-variant-caps: normal\; font-weight: 400\; letter-spacing: normal\; orphans: 2\; text-align: center\; text-indent: 0px\; text-transform: none\; widows: 2\; word-spacing: 0px\; -webkit-text-stroke-width: 0px\; white-space: normal\; background-color: rgb(255\, 255\, 255)\; text-decoration-thickness: initial\; text-decoration-style: initial\; text-decoration-color: initial\; font-family: verdana\, sans-serif\;"><meta charset="utf-8"></div><p style="text-align: center\;"><strong fr-original-style="font-weight: 700\; font-style: normal\; font-variant-ligatures: normal\; font-variant-caps: normal\; letter-spacing: normal\; orphans: 2\; text-align: center\; text-indent: 0px\; text-transform: none\; widows: 2\; word-spacing: 0px\; -webkit-text-stroke-width: 0px\; white-space: normal\; text-decoration-thickness: initial\; text-decoration-style: initial\; text-decoration-color: initial\; color: rgb(243\, 121\, 52)\; font-family: Arial\, Helvetica\, sans-serif\; font-size: 30px\;" style="font-weight: 700\; font-style: normal\; font-variant-ligatures: normal\; font-variant-caps: normal\; letter-spacing: normal\; orphans: 2\; text-align: center\; text-indent: 0px\; text-transform: none\; widows: 2\; word-spacing: 0px\; -webkit-text-stroke-width: 0px\; white-space: normal\; text-decoration-thickness: initial\; text-decoration-style: initial\; text-decoration-color: initial\; color: rgb(243\, 121\, 52)\; font-family: Arial\, Helvetica\, sans-serif\; font-size: 30px\;">In-Person Spring</strong><strong fr-original-style="font-weight: 700\; font-style: normal\; font-variant-ligatures: normal\; font-variant-caps: normal\; letter-spacing: normal\; orphans: 2\; text-align: center\; text-indent: 0px\; text-transform: none\; widows: 2\; word-spacing: 0px\; -webkit-text-stroke-width: 0px\; white-space: normal\; text-decoration-thickness: initial\; text-decoration-style: initial\; text-decoration-color: initial\; color: rgb(243\, 121\, 52)\; font-family: Arial\, Helvetica\, sans-serif\; font-size: 30px\;" style="font-weight: 700\; font-style: normal\; font-variant-ligatures: normal\; font-variant-caps: normal\; letter-spacing: normal\; orphans: 2\; text-align: center\; text-indent: 0px\; text-transform: none\; widows: 2\; word-spacing: 0px\; -webkit-text-stroke-width: 0px\; white-space: normal\; text-decoration-thickness: initial\; text-decoration-style: initial\; text-decoration-color: initial\; color: rgb(243\, 121\, 52)\; font-family: Arial\, Helvetica\, sans-serif\; font-size: 30px\;">&nbsp\;Morning Mixer</strong></p><div style="color: rgb(34\, 34\, 34)\; font-size: small\; font-style: normal\; font-variant-ligatures: normal\; font-variant-caps: normal\; font-weight: 400\; letter-spacing: normal\; orphans: 2\; text-align: center\; text-indent: 0px\; text-transform: none\; widows: 2\; word-spacing: 0px\; -webkit-text-stroke-width: 0px\; white-space: normal\; background-color: rgb(255\, 255\, 255)\; text-decoration-thickness: initial\; text-decoration-style: initial\; text-decoration-color: initial\; font-family: verdana\, sans-serif\;"><span style="color: rgb(71\, 85\, 119)\;"><span style="font-size: 24px\;"><em><span style="font-family: Arial\,Helvetica\,sans-serif\;">Join us for a morning of community building\,&nbsp\;</span></em></span></span></div><div style="color: rgb(34\, 34\, 34)\; font-size: small\; font-style: normal\; font-variant-ligatures: normal\; font-variant-caps: normal\; font-weight: 400\; letter-spacing: normal\; orphans: 2\; text-align: center\; text-indent: 0px\; text-transform: none\; widows: 2\; word-spacing: 0px\; -webkit-text-stroke-width: 0px\; white-space: normal\; background-color: rgb(255\, 255\, 255)\; text-decoration-thickness: initial\; text-decoration-style: initial\; text-decoration-color: initial\; font-family: verdana\, sans-serif\;"><span style="color: rgb(71\, 85\, 119)\;"><span style="font-size: 24px\;"><em><span style="font-family: Arial\,Helvetica\,sans-serif\;">complete with beautiful views and great conversation</span></em></span></span><span style="font-family: Arial\,Helvetica\,sans-serif\;"><span style="font-size: 24px\;"><span style="color: rgb(71\, 85\, 119)\;"><em>!&nbsp\;</em></span></span></span><br><br></div><div style="color: rgb(34\, 34\, 34)\; font-size: small\; font-style: normal\; font-variant-ligatures: normal\; font-variant-caps: normal\; font-weight: 400\; letter-spacing: normal\; orphans: 2\; text-align: center\; text-indent: 0px\; text-transform: none\; widows: 2\; word-spacing: 0px\; -webkit-text-stroke-width: 0px\; white-space: normal\; background-color: rgb(255\, 255\, 255)\; text-decoration-thickness: initial\; text-decoration-style: initial\; text-decoration-color: initial\; font-family: verdana\, sans-serif\;"><span style="font-family: Arial\,Helvetica\,sans-serif\;"><span style="color: rgb(243\, 121\, 52)\;"><span style="font-size: 24px\;"><span dir="ltr">&nbsp\;Wednesday</span></span></span><span style="font-size: 24px\;"><span style="color: rgb(243\, 121\, 52)\;"><span dir="ltr">\, May 20\, 2026</span></span></span></span></div><div style="color: rgb(34\, 34\, 34)\; font-size: small\; font-style: normal\; font-variant-ligatures: normal\; font-variant-caps: normal\; font-weight: 400\; letter-spacing: normal\; orphans: 2\; text-align: center\; text-indent: 0px\; text-transform: none\; widows: 2\; word-spacing: 0px\; -webkit-text-stroke-width: 0px\; white-space: normal\; background-color: rgb(255\, 255\, 255)\; text-decoration-thickness: initial\; text-decoration-style: initial\; text-decoration-color: initial\; font-family: verdana\, sans-serif\;"><span style="font-family: Arial\,Helvetica\,sans-serif\;"><span style="font-size: 24px\;"><span style="color: rgb(243\, 121\, 52)\;"><span style="font-style: normal\; font-variant-ligatures: normal\; font-variant-caps: normal\; font-weight: 400\; letter-spacing: normal\; orphans: 2\; text-align: center\; text-indent: 0px\; text-transform: none\; widows: 2\; word-spacing: 0px\; -webkit-text-stroke-width: 0px\; white-space: normal\; background-color: rgb(255\, 255\, 255)\; text-decoration-thickness: initial\; text-decoration-style: initial\; text-decoration-color: initial\; float: none\; display: inline !important\;">9:30 -11:30am</span></span></span></span><br><span style="font-family: Arial\,Helvetica\,sans-serif\;"><span style="font-size: 24px\;"><span style="color: rgb(243\, 121\, 52)\;"><span style="font-style: normal\; font-variant-ligatures: normal\; font-variant-caps: normal\; font-weight: 400\; letter-spacing: normal\; orphans: 2\; text-align: center\; text-indent: 0px\; text-transform: none\; widows: 2\; word-spacing: 0px\; -webkit-text-stroke-width: 0px\; white-space: normal\; background-color: rgb(255\, 255\, 255)\; text-decoration-thickness: initial\; text-decoration-style: initial\; text-decoration-color: initial\; float: none\; display: inline !important\;">4 World Trade Center\, 30th Floor\, Conference Room 30A</span></span></span></span></div><div style="color: rgb(34\, 34\, 34)\; font-size: small\; font-style: normal\; font-variant-ligatures: normal\; font-variant-caps: normal\; font-weight: 400\; letter-spacing: normal\; orphans: 2\; text-align: center\; text-indent: 0px\; text-transform: none\; widows: 2\; word-spacing: 0px\; -webkit-text-stroke-width: 0px\; white-space: normal\; background-color: rgb(255\, 255\, 255)\; text-decoration-thickness: initial\; text-decoration-style: initial\; text-decoration-color: initial\; font-family: verdana\, sans-serif\;"><br></div><div style="font-style: normal\; font-variant-ligatures: normal\; font-variant-caps: normal\; font-weight: 400\; letter-spacing: normal\; orphans: 2\; text-indent: 0px\; text-transform: none\; widows: 2\; word-spacing: 0px\; -webkit-text-stroke-width: 0px\; white-space: normal\; text-decoration-thickness: initial\; text-decoration-style: initial\; text-decoration-color: initial\; color: rgb(34\, 34\, 34)\; font-size: small\; text-align: center\; background-color: rgb(255\, 255\, 255)\; font-family: verdana\, sans-serif\;"><span style="font-family: Arial\, Helvetica\, sans-serif\; font-size: 18px\;">Hear from Miguel Bonilla\, Deputy Director\, Mayor&rsquo\;s Office for Nonprofit Services.</span></div><div style="font-style: normal\; font-variant-ligatures: normal\; font-variant-caps: normal\; font-weight: 400\; letter-spacing: normal\; orphans: 2\; text-indent: 0px\; text-transform: none\; widows: 2\; word-spacing: 0px\; -webkit-text-stroke-width: 0px\; white-space: normal\; text-decoration-thickness: initial\; text-decoration-style: initial\; text-decoration-color: initial\; color: rgb(34\, 34\, 34)\; font-size: small\; text-align: center\; background-color: rgb(255\, 255\, 255)\; font-family: verdana\, sans-serif\;"><span style="font-family: Arial\, Helvetica\, sans-serif\; font-size: 18px\;">See what is happening in the City.</span></div><div style="font-style: normal\; font-variant-ligatures: normal\; font-variant-caps: normal\; font-weight: 400\; letter-spacing: normal\; orphans: 2\; text-indent: 0px\; text-transform: none\; widows: 2\; word-spacing: 0px\; -webkit-text-stroke-width: 0px\; white-space: normal\; text-decoration-thickness: initial\; text-decoration-style: initial\; text-decoration-color: initial\; color: rgb(34\, 34\, 34)\; font-size: small\; text-align: center\; background-color: rgb(255\, 255\, 255)\; font-family: verdana\, sans-serif\;"><span style="font-size: 18px\;"><span style="font-family: Arial\, Helvetica\, sans-serif\;">Walk away with new contacts and ideas to support your consulting work.</span></span></div><p style="color: rgb(34\, 34\, 34)\; font-family: Arial\, Helvetica\, sans-serif\; font-size: small\; font-style: normal\; font-variant-ligatures: normal\; font-variant-caps: normal\; font-weight: 400\; letter-spacing: normal\; orphans: 2\; text-align: start\; text-indent: 0px\; text-transform: none\; widows: 2\; word-spacing: 0px\; -webkit-text-stroke-width: 0px\; white-space: normal\; background-color: rgb(255\, 255\, 255)\; text-decoration-thickness: initial\; text-decoration-style: initial\; text-decoration-color: initial\; margin: 0px\; line-height: normal\; font-size-adjust: none\; font-kerning: auto\; font-variant-alternates: normal\; font-variant-numeric: normal\; font-variant-east-asian: normal\; font-feature-settings: normal\; min-height: 14px\;"><br></p><div style="color: rgb(34\, 34\, 34)\; font-size: small\; font-style: normal\; font-variant-ligatures: normal\; font-variant-caps: normal\; font-weight: 400\; letter-spacing: normal\; orphans: 2\; text-align: center\; text-indent: 0px\; text-transform: none\; widows: 2\; word-spacing: 0px\; -webkit-text-stroke-width: 0px\; white-space: normal\; background-color: rgb(255\, 255\, 255)\; text-decoration-thickness: initial\; text-decoration-style: initial\; text-decoration-color: initial\; font-family: verdana\, sans-serif\;"><span style="color: rgb(71\, 85\, 119)\;">~</span></div><div style="text-align: center\;"><span style="font-family: Arial\,Helvetica\,sans-serif\;"><span style="color: rgb(0\, 0\, 0)\;"><span style="font-size: 18px\;">Members $20&nbsp\;</span></span></span></div><div style="color: rgb(34\, 34\, 34)\; font-size: small\; font-style: normal\; font-variant-ligatures: normal\; font-variant-caps: normal\; font-weight: 400\; letter-spacing: normal\; orphans: 2\; text-align: center\; text-indent: 0px\; text-transform: none\; widows: 2\; word-spacing: 0px\; -webkit-text-stroke-width: 0px\; white-space: normal\; background-color: rgb(255\, 255\, 255)\; text-decoration-thickness: initial\; text-decoration-style: initial\; text-decoration-color: initial\; font-family: verdana\, sans-serif\;"><span style="font-family: Arial\,Helvetica\,sans-serif\;"><span style="color: rgb(0\, 0\, 0)\;"><span style="font-size: 18px\;">Non-Members $30&nbsp\;</span><br><span style="font-size: 18px\;"><meta charset="utf-8"><span style="font-size: 18px\; font-style: normal\; font-variant-ligatures: normal\; font-variant-caps: normal\; font-weight: 400\; letter-spacing: normal\; orphans: 2\; text-align: center\; text-indent: 0px\; text-transform: none\; widows: 2\; word-spacing: 0px\; -webkit-text-stroke-width: 0px\; white-space: normal\; background-color: rgb(255\, 255\, 255)\; text-decoration-thickness: initial\; text-decoration-style: initial\; text-decoration-color: initial\; float: none\; display: inline !important\;">Students $20</span></span></span></span></div><div style="color: rgb(34\, 34\, 34)\; font-size: small\; font-style: normal\; font-variant-ligatures: normal\; font-variant-caps: normal\; font-weight: 400\; letter-spacing: normal\; orphans: 2\; text-align: center\; text-indent: 0px\; text-transform: none\; widows: 2\; word-spacing: 0px\; -webkit-text-stroke-width: 0px\; white-space: normal\; background-color: rgb(255\, 255\, 255)\; text-decoration-thickness: initial\; text-decoration-style: initial\; text-decoration-color: initial\; font-family: verdana\, sans-serif\;"><span style="font-family: Arial\,Helvetica\,sans-serif\;"><span style="color: rgb(0\, 0\, 0)\;"><br></span><strong fr-original-style="font-weight: 700\; color: rgb(71\, 85\, 119)\; font-family: Arial\, Helvetica\, sans-serif\; font-size: 18px\; font-style: normal\; font-variant-ligatures: normal\; font-variant-caps: normal\; letter-spacing: normal\; orphans: 2\; text-align: center\; text-indent: 0px\; text-transform: none\; widows: 2\; word-spacing: 0px\; -webkit-text-stroke-width: 0px\; white-space: normal\; background-color: rgb(255\, 255\, 255)\; text-decoration-thickness: initial\; text-decoration-style: initial\; text-decoration-color: initial\;" style="font-weight: 700\; color: rgb(71\, 85\, 119)\; font-family: Arial\, Helvetica\, sans-serif\; font-size: 18px\; font-style: normal\; font-variant-ligatures: normal\; font-variant-caps: normal\; letter-spacing: normal\; orphans: 2\; text-align: center\; text-indent: 0px\; text-transform: none\; widows: 2\; word-spacing: 0px\; -webkit-text-stroke-width: 0px\; white-space: normal\; background-color: rgb(255\, 255\, 255)\; text-decoration-thickness: initial\; text-decoration-style: initial\; text-decoration-color: initial\;">A light breakfast will be served</strong></span></div><p style="text-align: center\;"><span style="font-family: Arial\,Helvetica\,sans-serif\;"><span style="font-size: 18px\;"><span style="color: rgb(243\, 121\, 52)\;"><strong fr-original-style="">Registration Closes Tuesday\, May 12 at 11pm</strong></span></span></span></p><p style="text-align: center\;"><span style="font-family: Arial\,Helvetica\,sans-serif\;"><span style="font-size: 18px\;"><span style="color: rgb(243\, 121\, 52)\;"><strong fr-original-style="">SPACE IS LIMITED: Pre-registration is required</strong></span></span></span></p><div style="color: rgb(34\, 34\, 34)\; font-size: small\; font-style: normal\; font-variant-ligatures: normal\; font-variant-caps: normal\; font-weight: 400\; letter-spacing: normal\; orphans: 2\; text-align: center\; text-indent: 0px\; text-transform: none\; widows: 2\; word-spacing: 0px\; -webkit-text-stroke-width: 0px\; white-space: normal\; background-color: rgb(255\, 255\, 255)\; text-decoration-thickness: initial\; text-decoration-style: initial\; text-decoration-color: initial\; font-family: verdana\, sans-serif\;"><br></div></body></html>
LOCATION:New York NY
UID:e.708.1445209
SEQUENCE:3
DTSTAMP:20260423T150425Z
URL:https://associationofnonprofitspecialists.growthzoneapp.com/events/Details/in-person-spring-morning-mixer-1711716?sourceTypeId=Hub
END:VEVENT
END:VCALENDAR
