BEGIN:VCALENDAR
VERSION:2.0
PRODID:-//ChamberMaster//Event Calendar 2.0//EN
METHOD:PUBLISH
X-PUBLISHED-TTL:P1H
REFRESH-INTERVAL:P1H
CALSCALE:GREGORIAN
BEGIN:VTIMEZONE
TZID:America/New_York
BEGIN:DAYLIGHT
RRULE:FREQ=YEARLY;BYMONTH=3;BYDAY=2SU
DTSTART:20070101T000000
TZOFFSETFROM:-0500
TZOFFSETTO:-0400
TZNAME:Eastern Daylight Time
END:DAYLIGHT
BEGIN:STANDARD
RRULE:FREQ=YEARLY;BYMONTH=11;BYDAY=1SU
DTSTART:20070101T000000
TZOFFSETFROM:-0400
TZOFFSETTO:-0500
TZNAME:Eastern Standard Time
END:STANDARD
END:VTIMEZONE
BEGIN:VEVENT
DTSTART;TZID=America/New_York:20260625T103000
DTEND;TZID=America/New_York:20260625T120000
X-MICROSOFT-CDO-ALLDAYEVENT:FALSE
SUMMARY:The Consultants' Coffee Club
DESCRIPTION:Please Join Us for our Next Coffee Club!\nPlease join us for our next Coffee Club an informal\, in-person gathering where our members come together to network\, exchange ideas\, and build relationships.Past participants consistently highlight the value of these gatherings in sharing professional perspectives and forming lasting connections across the ANS community.\nThursday\, June 25\, 2026\n10:30am - Noon ET\nRed Flame Diner\n67 West 44th Street (just off 6th Avenue)\, NYCRegistration is $8\, which includes coffee\, tea\, or sodaAdditional food and beverages are available for purchase off the menu\, if you choose.\nMembers may invite one guest - Please add your guest to your registration so we have an accurate count.\nRegistration closes on June 23rd at 9pm.
X-ALT-DESC;FMTTYPE=text/html:<!DOCTYPE html><html><head><title></title></head><body aria-disabled="false"><div style="text-align: center\;"><span style="font-size: 18px\;"><span style="font-family:lato\,helvetica neue\,helvetica\,arial\,sans-serif\;"><span style="color: rgb(41\, 105\, 176)\;"><strong fr-original-style="" style="font-weight: 700\;">Please Join Us for our Next Coffee Club!</strong></span></span></span></div><div style="text-align: left\;"><br></div><div style="text-align: center\;">Please join us for our next <strong fr-original-style="" style="font-weight: 700\;">Coffee Club</strong>&mdash\;an informal\, in-person gathering where our members come together to network\, exchange ideas\, and build relationships.Past participants consistently highlight the value of these gatherings in sharing professional perspectives and forming lasting connections across the ANS community.</div><div style="color: rgb(34\, 34\, 34)\; font-family: Arial\, Helvetica\, sans-serif\; font-size: small\; font-style: normal\; font-variant-ligatures: normal\; font-variant-caps: normal\; font-weight: 400\; letter-spacing: normal\; orphans: 2\; text-align: start\; text-indent: 0px\; text-transform: none\; widows: 2\; word-spacing: 0px\; -webkit-text-stroke-width: 0px\; white-space: normal\; background-color: rgb(255\, 255\, 255)\; text-decoration-thickness: initial\; text-decoration-style: initial\; text-decoration-color: initial\;"><br></div><div style="color: rgb(34\, 34\, 34)\; font-family: Arial\, Helvetica\, sans-serif\; font-size: small\; font-style: normal\; font-variant-ligatures: normal\; font-variant-caps: normal\; font-weight: 400\; letter-spacing: normal\; orphans: 2\; text-align: center\; text-indent: 0px\; text-transform: none\; widows: 2\; word-spacing: 0px\; -webkit-text-stroke-width: 0px\; white-space: normal\; background-color: rgb(255\, 255\, 255)\; text-decoration-thickness: initial\; text-decoration-style: initial\; text-decoration-color: initial\;"><span style="font-size: 18px\;"><span style="font-family:lato\,helvetica neue\,helvetica\,arial\,sans-serif\;"><span style="color:#000000\;"><strong fr-original-style="" style="font-weight: 700\;">Thursday\, June 25\, 2026<br>10:30am - Noon ET</strong></span></span></span><span style="font-size:16px\;"><span style="font-family:lato\,helvetica neue\,helvetica\,arial\,sans-serif\;"><span style="color:#000000\;"><br><a data-cke-saved-href="https://www.theredflamediner.com/" fr-original-style="" href="https://www.theredflamediner.com/" style="user-select: auto\;" target="_blank"><strong fr-original-style="" style="font-weight: 700\;">Red Flame Diner</strong></a><br>67 West 44th Street (just off 6th Avenue)\, NYC</span></span></span></div><div style="color: rgb(34\, 34\, 34)\; font-family: Arial\, Helvetica\, sans-serif\; font-size: small\; font-style: normal\; font-variant-ligatures: normal\; font-variant-caps: normal\; font-weight: 400\; letter-spacing: normal\; orphans: 2\; text-align: center\; text-indent: 0px\; text-transform: none\; widows: 2\; word-spacing: 0px\; -webkit-text-stroke-width: 0px\; white-space: normal\; background-color: rgb(255\, 255\, 255)\; text-decoration-thickness: initial\; text-decoration-style: initial\; text-decoration-color: initial\;"><span style="font-size:16px\;"><span style="font-family:lato\,helvetica neue\,helvetica\,arial\,sans-serif\;"><span style="color: rgb(41\, 105\, 176)\;"><strong fr-original-style="" style="font-weight: 700\;">Registration is $8\, which includes coffee\, tea\, or soda</strong></span></span></span></div><div style="color: rgb(34\, 34\, 34)\; font-family: Arial\, Helvetica\, sans-serif\; font-size: small\; font-style: normal\; font-variant-ligatures: normal\; font-variant-caps: normal\; font-weight: 400\; letter-spacing: normal\; orphans: 2\; text-align: center\; text-indent: 0px\; text-transform: none\; widows: 2\; word-spacing: 0px\; -webkit-text-stroke-width: 0px\; white-space: normal\; background-color: rgb(255\, 255\, 255)\; text-decoration-thickness: initial\; text-decoration-style: initial\; text-decoration-color: initial\;"><span style='color: rgb(0\, 0\, 0)\; font-family: lato\, "helvetica neue"\, helvetica\, arial\, sans-serif\; font-size: 16px\; font-style: normal\; font-variant-ligatures: normal\; font-variant-caps: normal\; font-weight: 400\; letter-spacing: normal\; orphans: 2\; text-align: center\; text-indent: 0px\; text-transform: none\; widows: 2\; word-spacing: 0px\; -webkit-text-stroke-width: 0px\; white-space: normal\; background-color: rgb(255\, 255\, 255)\; text-decoration-thickness: initial\; text-decoration-style: initial\; text-decoration-color: initial\; display: inline !important\; float: none\;'><em>Additional food and beverages are available for purchase off the menu\, if you choose.</em></span></div><div style="color: rgb(34\, 34\, 34)\; font-family: Arial\, Helvetica\, sans-serif\; font-size: small\; font-style: normal\; font-variant-ligatures: normal\; font-variant-caps: normal\; font-weight: 400\; letter-spacing: normal\; orphans: 2\; text-align: center\; text-indent: 0px\; text-transform: none\; widows: 2\; word-spacing: 0px\; -webkit-text-stroke-width: 0px\; white-space: normal\; background-color: rgb(255\, 255\, 255)\; text-decoration-thickness: initial\; text-decoration-style: initial\; text-decoration-color: initial\;"><br></div><div style="color: rgb(34\, 34\, 34)\; font-family: Arial\, Helvetica\, sans-serif\; font-size: small\; font-style: normal\; font-variant-ligatures: normal\; font-variant-caps: normal\; font-weight: 400\; letter-spacing: normal\; orphans: 2\; text-align: center\; text-indent: 0px\; text-transform: none\; widows: 2\; word-spacing: 0px\; -webkit-text-stroke-width: 0px\; white-space: normal\; background-color: rgb(255\, 255\, 255)\; text-decoration-thickness: initial\; text-decoration-style: initial\; text-decoration-color: initial\;"><span style="font-size:16px\;"><span style="font-family:lato\,helvetica neue\,helvetica\,arial\,sans-serif\;"><span style="color:#000000\;">Members may invite one guest - Please add your guest to your registration so we have an accurate count.<br></span><span style="color: rgb(209\, 72\, 65)\;"><strong fr-original-style="" style="font-weight: 700\;">Registration closes on June 23rd at 9pm.&nbsp\;</strong></span></span></span></div></body></html>
LOCATION:
UID:e.708.1446082
SEQUENCE:3
DTSTAMP:20260423T150424Z
URL:https://associationofnonprofitspecialists.growthzoneapp.com/events/Details/the-consultants-coffee-club-1712793?sourceTypeId=Hub
END:VEVENT
END:VCALENDAR
